BEGIN:VCALENDAR
VERSION:2.0
PRODID:SchoolNow
CALSCALE:GREGORIAN
BEGIN:VEVENT
UID:5b746058-a244-11e9-ac3e-0a6b3545c7dc
DTSTAMP:20190709T122328Z
SUMMARY:School Committee Meeting
LOCATION:Savage Educational Center
URL;VALUE=URI:https://www.norwood.k12.ma.us/sc/calendar/2027099/school-comm
 ittee-meeting
DTSTART:20200123T000000Z
DTEND:20200123T030000Z
END:VEVENT
END:VCALENDAR
