BEGIN:VCALENDAR
VERSION:2.0
PRODID:SchoolNow
CALSCALE:GREGORIAN
BEGIN:VEVENT
UID:8936c300-a244-11e9-934b-0a6b3545c7dc
DTSTAMP:20200202T141209Z
SUMMARY:School Committee Meeting
LOCATION:Savage Educational Center
URL;VALUE=URI:https://www.norwood.k12.ma.us/sc/calendar/2027101/school-comm
 ittee-meeting
DTSTART:20200206T001500Z
DTEND:20200206T030000Z
END:VEVENT
END:VCALENDAR
