BEGIN:VCALENDAR
VERSION:2.0
PRODID:SchoolNow
CALSCALE:GREGORIAN
BEGIN:VEVENT
UID:9eec084a-a244-11e9-8f3d-0a6b3545c7dc
DTSTAMP:20190709T122521Z
SUMMARY:School Committee Meeting
LOCATION:Savage Educational Center
URL;VALUE=URI:https://www.norwood.k12.ma.us/sc/calendar/2027103/school-comm
 ittee-meeting
DTSTART:20200227T000000Z
DTEND:20200227T030000Z
END:VEVENT
END:VCALENDAR
