BEGIN:VCALENDAR
VERSION:2.0
PRODID:SchoolNow
CALSCALE:GREGORIAN
BEGIN:VEVENT
UID:b6903d22-a244-11e9-8043-0a6b3545c7dc
DTSTAMP:20200311T005359Z
SUMMARY:School Committee Meeting - CANCELLED DUE TO LACK OF QUORUM
LOCATION:Savage Educational Center
URL;VALUE=URI:https://www.norwood.k12.ma.us/sc/calendar/2027105/school-comm
 ittee-meeting
DTSTART:20200311T230000Z
DTEND:20200312T020000Z
END:VEVENT
END:VCALENDAR
