BEGIN:VCALENDAR
VERSION:2.0
PRODID:SchoolNow
CALSCALE:GREGORIAN
BEGIN:VEVENT
UID:cb812dc2-a244-11e9-b780-0a6b3545c7dc
DTSTAMP:20200324T135142Z
SUMMARY:School Committee Meeting - REMOTE MEETING ONLINE
DESCRIPTION:Click "View Event Details" for Public Participation Instruction
 s
LOCATION:Savage Educational Center
URL;VALUE=URI:https://www.norwood.k12.ma.us/sc/calendar/2027107/school-comm
 ittee-meeting
DTSTART:20200325T230000Z
DTEND:20200326T020000Z
END:VEVENT
END:VCALENDAR
