BEGIN:VCALENDAR
VERSION:2.0
PRODID:SchoolNow
CALSCALE:GREGORIAN
BEGIN:VEVENT
UID:e0696880-a244-11e9-9a4d-0a6b3545c7dc
DTSTAMP:20200324T135149Z
SUMMARY:School Committee Meeting - REMOTE MEETING ONLINE
DESCRIPTION:Click "View Event Details" for Public Participation Instruction
 s
LOCATION:Savage Educational Center
URL;VALUE=URI:https://www.norwood.k12.ma.us/sc/calendar/2027109/school-comm
 ittee-meeting
DTSTART:20200408T230000Z
DTEND:20200409T020000Z
END:VEVENT
END:VCALENDAR
