BEGIN:VCALENDAR
VERSION:2.0
PRODID:SchoolNow
CALSCALE:GREGORIAN
BEGIN:VEVENT
UID:13123604-a245-11e9-a300-0a6b3545c7dc
DTSTAMP:20200427T133804Z
SUMMARY:School Committee Meeting - REMOTE MEETING ONLINE
DESCRIPTION:Click "View Event Details" for Public Participation Instruction
 s
URL;VALUE=URI:https://www.norwood.k12.ma.us/sc/calendar/2027113/school-comm
 ittee-meeting
DTSTART:20200513T230000Z
DTEND:20200514T020000Z
END:VEVENT
END:VCALENDAR
