BEGIN:VCALENDAR
VERSION:2.0
PRODID:SchoolNow
CALSCALE:GREGORIAN
BEGIN:VEVENT
UID:2d610832-a245-11e9-bffb-0a6b3545c7dc
DTSTAMP:20200512T125207Z
SUMMARY:School Committee Meeting - REMOTE MEETING ONLINE
LOCATION:Savage Educational Center
URL;VALUE=URI:https://www.norwood.k12.ma.us/sc/calendar/2027115/school-comm
 ittee-meeting
DTSTART:20200603T230000Z
DTEND:20200604T020000Z
END:VEVENT
END:VCALENDAR
