BEGIN:VCALENDAR
VERSION:2.0
PRODID:SchoolNow
CALSCALE:GREGORIAN
BEGIN:VEVENT
UID:435075ec-a245-11e9-9ee7-0a6b3545c7dc
DTSTAMP:20200512T125215Z
SUMMARY:School Committee Meeting - REMOTE MEETING ONLINE
LOCATION:Savage Educational Center
URL;VALUE=URI:https://www.norwood.k12.ma.us/sc/calendar/2027117/school-comm
 ittee-meeting
DTSTART:20200617T230000Z
DTEND:20200618T020000Z
END:VEVENT
END:VCALENDAR
