BEGIN:VCALENDAR
VERSION:2.0
PRODID:SchoolNow
CALSCALE:GREGORIAN
BEGIN:VEVENT
UID:6e8676ac-bdc6-11e9-87a7-0ada72797be4
DTSTAMP:20190813T123236Z
SUMMARY:School Committee Policy Sub Committee Meeting
LOCATION:School Committee Room\, Savage Educational Center
URL;VALUE=URI:https://www.norwood.k12.ma.us/sc/calendar/2062071/school-comm
 ittee-policy-sub-committee-meeting
DTSTART:20190916T170000Z
DTEND:20190916T180000Z
END:VEVENT
END:VCALENDAR
