BEGIN:VCALENDAR
VERSION:2.0
PRODID:SchoolNow
CALSCALE:GREGORIAN
BEGIN:VEVENT
UID:26059032-c025-11e9-b51d-0a89120c5d44
DTSTAMP:20190923T142108Z
SUMMARY:School Committee Meeting: Safety Executive Session
LOCATION:Norwood High School
URL;VALUE=URI:https://www.norwood.k12.ma.us/sc/calendar/2067158/school-comm
 ittee-safety-executive-session-meeting
DTSTART:20191007T210000Z
DTEND:20191007T220000Z
END:VEVENT
END:VCALENDAR
