BEGIN:VCALENDAR
VERSION:2.0
PRODID:SchoolNow
CALSCALE:GREGORIAN
BEGIN:VEVENT
UID:56f4e9fe-c804-11e9-a66a-123241f76cd4
DTSTAMP:20190826T132057Z
SUMMARY:School Committee Business
LOCATION:Savage Education Center
URL;VALUE=URI:https://www.norwood.k12.ma.us/sc/calendar/2072862/school-comm
 ittee-business
DTSTART:20190828T190000Z
DTEND:20190828T200000Z
END:VEVENT
END:VCALENDAR
