BEGIN:VCALENDAR
VERSION:2.0
PRODID:SchoolNow
CALSCALE:GREGORIAN
BEGIN:VEVENT
UID:55708050-d012-11e9-9765-12e032ef7e7e
DTSTAMP:20190905T192329Z
SUMMARY:School Committe Budget Subcommittee Meeting
LOCATION:Superintendent's Conference Room\, Savage Educational Center
URL;VALUE=URI:https://www.norwood.k12.ma.us/sc/calendar/2084241/school-comm
 itte-budget-subcommittee-meeting
DTSTART:20190927T163000Z
DTEND:20190927T173000Z
END:VEVENT
END:VCALENDAR
