BEGIN:VCALENDAR
VERSION:2.0
PRODID:SchoolNow
CALSCALE:GREGORIAN
BEGIN:VEVENT
UID:79f5bada-d012-11e9-8cda-12e032ef7e7e
DTSTAMP:20190905T192218Z
SUMMARY:School Committee Budget Subcommittee Meeting
LOCATION:Superintendent's Conference Room\, Savage Educational Center
URL;VALUE=URI:https://www.norwood.k12.ma.us/sc/calendar/2084243/school-comm
 ittee-budget-subcommittee-meeting
DTSTART:20191016T150000Z
DTEND:20191016T160000Z
END:VEVENT
END:VCALENDAR
