BEGIN:VCALENDAR
VERSION:2.0
PRODID:SchoolNow
CALSCALE:GREGORIAN
BEGIN:VEVENT
UID:98f9671a-d012-11e9-bd54-12e032ef7e7e
DTSTAMP:20190905T192310Z
SUMMARY:School Committee Budget Subcommittee Meeting
LOCATION:Superintendent's Conference Room\, Savage Educational Center
URL;VALUE=URI:https://www.norwood.k12.ma.us/sc/calendar/2084245/school-comm
 ittee-budget-subcommittee-meeting
DTSTART:20191030T163000Z
DTEND:20191030T173000Z
END:VEVENT
END:VCALENDAR
