BEGIN:VCALENDAR
VERSION:2.0
PRODID:SchoolNow
CALSCALE:GREGORIAN
BEGIN:VEVENT
UID:b88e9910-d012-11e9-90b9-12e032ef7e7e
DTSTAMP:20190905T192403Z
SUMMARY:School Committee Budget Subcommittee Meeting
LOCATION:Superintendent's Conference Room\, Savage Educational Center
URL;VALUE=URI:https://www.norwood.k12.ma.us/sc/calendar/2084247/school-comm
 ittee-budget-subcommittee-meeting
DTSTART:20191113T173000Z
DTEND:20191113T183000Z
END:VEVENT
END:VCALENDAR
