BEGIN:VCALENDAR
VERSION:2.0
PRODID:SchoolNow
CALSCALE:GREGORIAN
BEGIN:VEVENT
UID:cb948bfa-d012-11e9-9d6e-12e032ef7e7e
DTSTAMP:20190905T192435Z
SUMMARY:School Committee Budget Subcommittee Meeting
LOCATION:Superintendent's Conference Room\, Savage Educational Center
URL;VALUE=URI:https://www.norwood.k12.ma.us/sc/calendar/2084248/school-comm
 ittee-budget-subcommittee-meeting
DTSTART:20191122T173000Z
DTEND:20191122T183000Z
END:VEVENT
END:VCALENDAR
