BEGIN:VCALENDAR
VERSION:2.0
PRODID:SchoolNow
CALSCALE:GREGORIAN
BEGIN:VEVENT
UID:e65dfd54-d012-11e9-8e87-12e032ef7e7e
DTSTAMP:20190905T192520Z
SUMMARY:School Committee Budget Subcommittee Meeting
LOCATION:Superintendent's Conference Room\, Savage Educational Center
URL;VALUE=URI:https://www.norwood.k12.ma.us/sc/calendar/2084251/school-comm
 ittee-budget-subcommittee-meeting
DTSTART:20191211T203000Z
DTEND:20191211T213000Z
END:VEVENT
END:VCALENDAR
