BEGIN:VCALENDAR
VERSION:2.0
PRODID:SchoolNow
CALSCALE:GREGORIAN
BEGIN:VEVENT
UID:1cdacf3a-de0d-11e9-b3f0-12915fad9c84
DTSTAMP:20190927T133400Z
SUMMARY:School Committee Policy Subcommittee Meeting
LOCATION:Savage Educational Center
URL;VALUE=URI:https://www.norwood.k12.ma.us/sc/calendar/2102688/school-comm
 ittee-policy-subcommittee-meeting
DTSTART:20191009T140000Z
DTEND:20191009T151800Z
END:VEVENT
END:VCALENDAR
