BEGIN:VCALENDAR
VERSION:2.0
PRODID:SchoolNow
CALSCALE:GREGORIAN
BEGIN:VEVENT
UID:34ba1476-de0d-11e9-8606-12915fad9c84
DTSTAMP:20190923T141951Z
SUMMARY:School Committee Policy Subcommittee Meeting
LOCATION:Savage Educational Center
URL;VALUE=URI:https://www.norwood.k12.ma.us/sc/calendar/2102690/school-comm
 ittee-policy-subcommittee-meeting
DTSTART:20191029T170000Z
DTEND:20191029T180000Z
END:VEVENT
END:VCALENDAR
