BEGIN:VCALENDAR
VERSION:2.0
PRODID:SchoolNow
CALSCALE:GREGORIAN
BEGIN:VEVENT
UID:50c4dd40-de0d-11e9-adfd-12915fad9c84
DTSTAMP:20190923T142038Z
SUMMARY:School Committee Policy Subcommittee Meeting
LOCATION:Savage Educational Center
URL;VALUE=URI:https://www.norwood.k12.ma.us/sc/calendar/2102692/school-comm
 ittee-policy-subcommittee-meeting
DTSTART;VALUE=DATE:20191112
DTEND;VALUE=DATE:20191113
END:VEVENT
END:VCALENDAR
