BEGIN:VCALENDAR
VERSION:2.0
PRODID:SchoolNow
CALSCALE:GREGORIAN
BEGIN:VEVENT
UID:f14420b6-f3ff-11e9-b698-12ed15937612
DTSTAMP:20191021T124020Z
SUMMARY:School Commitee Meeting
LOCATION:Savage Educational Center
URL;VALUE=URI:https://www.norwood.k12.ma.us/sc/calendar/2125478/school-comm
 itee-meeting
DTSTART:20191105T003000Z
DTEND:20191105T023000Z
END:VEVENT
END:VCALENDAR
