BEGIN:VCALENDAR
VERSION:2.0
PRODID:SchoolNow
CALSCALE:GREGORIAN
BEGIN:VEVENT
UID:4d80a5bc-0624-11ea-a276-1235c0cb9cc7
DTSTAMP:20191113T144557Z
SUMMARY:School Committee Executive Session / MASC Training
LOCATION:School Committee Room\, Savage Educational Center
URL;VALUE=URI:https://www.norwood.k12.ma.us/sc/calendar/2144670/school-comm
 ittee-executive-session-masc-training
DTSTART:20191122T210000Z
DTEND:20191122T230000Z
END:VEVENT
END:VCALENDAR
