BEGIN:VCALENDAR
VERSION:2.0
PRODID:SchoolNow
CALSCALE:GREGORIAN
BEGIN:VEVENT
UID:15bbc5ce-07de-11ea-8ffd-1227da5accef
DTSTAMP:20191115T192821Z
SUMMARY:School Committee Policy Subcommittee Meeting
LOCATION:Superintendent's Conference Room\, Savage Educational Center
URL;VALUE=URI:https://www.norwood.k12.ma.us/sc/calendar/2145961/school-comm
 ittee-policy-subcommittee-meeting
DTSTART:20191202T180000Z
DTEND:20191202T190000Z
END:VEVENT
END:VCALENDAR
