BEGIN:VCALENDAR
VERSION:2.0
PRODID:SchoolNow
CALSCALE:GREGORIAN
BEGIN:VEVENT
UID:37348cf6-20d2-11ea-93eb-1250fccc9899
DTSTAMP:20191217T133622Z
SUMMARY:School Committee Budget Sub Committee Meeting
LOCATION:Savage Educational Center
URL;VALUE=URI:https://www.norwood.k12.ma.us/sc/calendar/2161592/school-comm
 ittee-budget-sub-committee-meeting
DTSTART:20191218T163000Z
DTEND:20191218T173500Z
END:VEVENT
END:VCALENDAR
