BEGIN:VCALENDAR
VERSION:2.0
PRODID:SchoolNow
CALSCALE:GREGORIAN
BEGIN:VEVENT
UID:495dc3b6-20d2-11ea-9e79-1250fccc9899
DTSTAMP:20191217T133653Z
SUMMARY:School Committee MASC Training
LOCATION:Savage Educational Center
URL;VALUE=URI:https://www.norwood.k12.ma.us/sc/calendar/2161593/school-comm
 ittee-masc-training
DTSTART:20200131T180000Z
DTEND:20200131T190000Z
END:VEVENT
END:VCALENDAR
