BEGIN:VCALENDAR
VERSION:2.0
PRODID:SchoolNow
CALSCALE:GREGORIAN
BEGIN:VEVENT
UID:d5bd35ac-21af-11ea-8e11-127794259b9b
DTSTAMP:20191218T160247Z
SUMMARY:School Committee Policy Sub Committee Meeting
LOCATION:Savage Educational Center
URL;VALUE=URI:https://www.norwood.k12.ma.us/sc/calendar/2162761/school-comm
 ittee-policy-sub-committee-meeting
DTSTART:20200106T173000Z
DTEND:20200106T183000Z
END:VEVENT
END:VCALENDAR
