BEGIN:VCALENDAR
VERSION:2.0
PRODID:SchoolNow
CALSCALE:GREGORIAN
BEGIN:VEVENT
UID:d5213788-2d67-11ea-bebe-0a882611e32b
DTSTAMP:20200102T135747Z
SUMMARY:School Committee Budget Sub Committee Meeting
LOCATION:Savage Educational Center
URL;VALUE=URI:https://www.norwood.k12.ma.us/sc/calendar/2168678/school-comm
 ittee-budget-subcommittee-meeting
DTSTART:20200117T180000Z
DTEND:20200117T190000Z
END:VEVENT
END:VCALENDAR
