BEGIN:VCALENDAR
VERSION:2.0
PRODID:SchoolNow
CALSCALE:GREGORIAN
BEGIN:VEVENT
UID:fbfd4f22-2d67-11ea-b2ed-0a882611e32b
DTSTAMP:20200102T135842Z
SUMMARY:School Committee Executive Session
LOCATION:Balch Elementary School
URL;VALUE=URI:https://www.norwood.k12.ma.us/sc/calendar/2168680/school-comm
 ittee-executive-session
DTSTART:20200108T233000Z
DTEND:20200109T000000Z
END:VEVENT
END:VCALENDAR
