BEGIN:VCALENDAR
VERSION:2.0
PRODID:SchoolNow
CALSCALE:GREGORIAN
BEGIN:VEVENT
UID:17e76556-2d68-11ea-a733-0a882611e32b
DTSTAMP:20200102T135928Z
SUMMARY:School Committee Executive Session
LOCATION:Savage Educational Center
URL;VALUE=URI:https://www.norwood.k12.ma.us/sc/calendar/2168682/school-comm
 ittee-executive-session
DTSTART:20200122T233000Z
DTEND:20200123T000000Z
END:VEVENT
END:VCALENDAR
