BEGIN:VCALENDAR
VERSION:2.0
PRODID:SchoolNow
CALSCALE:GREGORIAN
BEGIN:VEVENT
UID:34cf92d8-2d68-11ea-97b4-0a882611e32b
DTSTAMP:20200202T141147Z
SUMMARY:School Committee Executive Session
LOCATION:Savage Educational Center
URL;VALUE=URI:https://www.norwood.k12.ma.us/sc/calendar/2168684/school-comm
 ittee-executive-session
DTSTART:20200205T230000Z
DTEND:20200206T000000Z
END:VEVENT
END:VCALENDAR
