BEGIN:VCALENDAR
VERSION:2.0
PRODID:SchoolNow
CALSCALE:GREGORIAN
BEGIN:VEVENT
UID:4bec5fe6-2d68-11ea-85a8-0a882611e32b
DTSTAMP:20200202T141241Z
SUMMARY:School Committee Executive Session
LOCATION:Savage Educational Center
URL;VALUE=URI:https://www.norwood.k12.ma.us/sc/calendar/2168686/school-comm
 ittee-executive-session
DTSTART:20200226T230000Z
DTEND:20200227T000000Z
END:VEVENT
END:VCALENDAR
