BEGIN:VCALENDAR
VERSION:2.0
PRODID:SchoolNow
CALSCALE:GREGORIAN
BEGIN:VEVENT
UID:677c302e-2d68-11ea-9d64-0a882611e32b
DTSTAMP:20200427T133842Z
SUMMARY:School Committee Meeting - REMOTE MEETING ONLINE
DESCRIPTION:Click "View Event Details" for Public Participation Instruction
 s
URL;VALUE=URI:https://www.norwood.k12.ma.us/sc/calendar/2168688/school-comm
 ittee-meeting
DTSTART:20200527T230000Z
DTEND:20200528T020000Z
END:VEVENT
END:VCALENDAR
