BEGIN:VCALENDAR
VERSION:2.0
PRODID:SchoolNow
CALSCALE:GREGORIAN
BEGIN:VEVENT
UID:ef7fc61e-3de1-11ea-9aa4-12f52e30aa01
DTSTAMP:20200123T131158Z
SUMMARY:School Committee Policy Sub Committee Meeting
LOCATION:Superintendent's Conference Room\, Savage Educational Center
URL;VALUE=URI:https://www.norwood.k12.ma.us/sc/calendar/2187991/school-comm
 ittee-policy-sub-committee-meeting
DTSTART:20200210T190000Z
DTEND:20200210T200000Z
END:VEVENT
END:VCALENDAR
