BEGIN:VCALENDAR
VERSION:2.0
PRODID:SchoolNow
CALSCALE:GREGORIAN
BEGIN:VEVENT
UID:10399ed4-3de2-11ea-8924-12f52e30aa01
DTSTAMP:20200123T131253Z
SUMMARY:School Committee Policy Sub Committee Meeting
LOCATION:Superintendent's Conference Room\, Savage Educational Center
URL;VALUE=URI:https://www.norwood.k12.ma.us/sc/calendar/2187993/school-comm
 ittee-policy-sub-committee-meeting
DTSTART:20200224T170000Z
DTEND:20200224T180000Z
END:VEVENT
END:VCALENDAR
