BEGIN:VCALENDAR
VERSION:2.0
PRODID:SchoolNow
CALSCALE:GREGORIAN
BEGIN:VEVENT
UID:9da81f32-3eac-11ea-90ff-0ab222778a67
DTSTAMP:20200124T132248Z
SUMMARY:School Committee Budget Sub Committee Meeting
LOCATION:Superintendent's Conference Room\, Savage Educational Center
URL;VALUE=URI:https://www.norwood.k12.ma.us/sc/calendar/2189163/school-comm
 ittee-budget-sub-committee-meeting
DTSTART:20200129T203000Z
DTEND:20200129T213000Z
END:VEVENT
END:VCALENDAR
