BEGIN:VCALENDAR
VERSION:2.0
PRODID:SchoolNow
CALSCALE:GREGORIAN
BEGIN:VEVENT
UID:b56b242a-3eac-11ea-88e3-0ab222778a67
DTSTAMP:20200124T132328Z
SUMMARY:School Committee Budget Sub Committee Meeting
LOCATION:Superintendent's Conference Room\, Savage Educational Center
URL;VALUE=URI:https://www.norwood.k12.ma.us/sc/calendar/2189165/school-comm
 ittee-budget-sub-committee-meeting
DTSTART:20200206T150000Z
DTEND:20200206T162200Z
END:VEVENT
END:VCALENDAR
