BEGIN:VCALENDAR
VERSION:2.0
PRODID:SchoolNow
CALSCALE:GREGORIAN
BEGIN:VEVENT
UID:d1b042b4-3eac-11ea-b677-0ab222778a67
DTSTAMP:20200211T161915Z
SUMMARY:School Committee Budget Sub Committee
LOCATION:Superintendent's Conference Room\, Savage Educational Center
URL;VALUE=URI:https://www.norwood.k12.ma.us/sc/calendar/2189167/school-comm
 ittee-budget-sub-committee
DTSTART:20200227T143000Z
DTEND:20200227T160000Z
END:VEVENT
END:VCALENDAR
