BEGIN:VCALENDAR
VERSION:2.0
PRODID:SchoolNow
CALSCALE:GREGORIAN
BEGIN:VEVENT
UID:bf27a238-4c0b-11ea-8912-125485729ca7
DTSTAMP:20200210T134840Z
SUMMARY:School Committee Executive Session
LOCATION:Savage Educational Center
URL;VALUE=URI:https://www.norwood.k12.ma.us/sc/calendar/2198678/school-comm
 ittee-executive-session
DTSTART:20200212T220000Z
DTEND:20200213T000000Z
END:VEVENT
END:VCALENDAR
