BEGIN:VCALENDAR
VERSION:2.0
PRODID:SchoolNow
CALSCALE:GREGORIAN
BEGIN:VEVENT
UID:d85e4fc2-4c0b-11ea-a520-125485729ca7
DTSTAMP:20200210T134714Z
SUMMARY:School Committee Budget Sub Committee Meeting
LOCATION:Superintendent's Conference Room\, Savage Educational Center
URL;VALUE=URI:https://www.norwood.k12.ma.us/sc/calendar/2198680/school-comm
 ittee-budget-sub-committee-meeting
DTSTART:20200214T160000Z
DTEND:20200214T174600Z
END:VEVENT
END:VCALENDAR
