BEGIN:VCALENDAR
VERSION:2.0
PRODID:SchoolNow
CALSCALE:GREGORIAN
BEGIN:VEVENT
UID:023fd516-5c8a-11ea-9f17-0aa47dc39ec3
DTSTAMP:20200316T182622Z
SUMMARY:CANCELLED - School Committee Executive Session (Contract Negotiatio
 ns)
LOCATION:Room 219\, Savage Educational Center
URL;VALUE=URI:https://www.norwood.k12.ma.us/sc/calendar/2211421/school-comm
 ittee-executive-session
DTSTART:20200318T230000Z
DTEND:20200319T000000Z
END:VEVENT
END:VCALENDAR
