BEGIN:VCALENDAR
VERSION:2.0
PRODID:SchoolNow
CALSCALE:GREGORIAN
BEGIN:VEVENT
UID:1728a6d8-5c8a-11ea-9056-0aa47dc39ec3
DTSTAMP:20200316T182630Z
SUMMARY:CANCELLED - School Committee Meeting-Budget Workshop
LOCATION:Room 219\, Savage Educational Center
URL;VALUE=URI:https://www.norwood.k12.ma.us/sc/calendar/2211423/school-comm
 ittee-meeting-budget-workshop
DTSTART:20200319T000000Z
DTEND:20200319T010000Z
END:VEVENT
END:VCALENDAR
