BEGIN:VCALENDAR
VERSION:2.0
PRODID:SchoolNow
CALSCALE:GREGORIAN
BEGIN:VEVENT
UID:283aa070-5c8a-11ea-89da-0aa47dc39ec3
DTSTAMP:20200324T134416Z
SUMMARY:School Committee Policy Sub Committee Meeting - CANCELLED
LOCATION:Superintendent's Conference Room\, Savage Educational Center
URL;VALUE=URI:https://www.norwood.k12.ma.us/sc/calendar/2211425/school-comm
 ittee-policy-sub-committee-meeting
DTSTART:20200326T140000Z
DTEND:20200326T150000Z
END:VEVENT
END:VCALENDAR
