BEGIN:VCALENDAR
VERSION:2.0
PRODID:SchoolNow
CALSCALE:GREGORIAN
BEGIN:VEVENT
UID:6bf20952-5c8a-11ea-b32a-127d75a5caed
DTSTAMP:20200302T133337Z
SUMMARY:School Committee Budget Sub Committee Meeting
LOCATION:Superintendent's Conference Room\, Savage Educational Center
URL;VALUE=URI:https://www.norwood.k12.ma.us/sc/calendar/2211427/school-comm
 ittee-budget-sub-committee-meeting
DTSTART:20200304T183000Z
DTEND:20200304T193000Z
END:VEVENT
END:VCALENDAR
