BEGIN:VCALENDAR
VERSION:2.0
PRODID:SchoolNow
CALSCALE:GREGORIAN
BEGIN:VEVENT
UID:7eb63004-5c8a-11ea-be1c-127d75a5caed
DTSTAMP:20200309T123933Z
SUMMARY:School Committee Budget Sub Committee Meeting-CANCELLED
LOCATION:Superintendent's Conference Room\, Savage Educational Center
URL;VALUE=URI:https://www.norwood.k12.ma.us/sc/calendar/2211429/school-comm
 ittee-budget-sub-committee-meeting
DTSTART:20200310T143000Z
DTEND:20200310T153000Z
END:VEVENT
END:VCALENDAR
