BEGIN:VCALENDAR
VERSION:2.0
PRODID:SchoolNow
CALSCALE:GREGORIAN
BEGIN:VEVENT
UID:4a6e19d6-6dd5-11ea-a933-12b959789e89
DTSTAMP:20200324T135155Z
SUMMARY:School Committee Meeting - REMOTE MEETING ONLINE
DESCRIPTION:Click "View Event Details" for Public Participation Instruction
 s
URL;VALUE=URI:https://www.norwood.k12.ma.us/sc/calendar/2223704/school-comm
 ittee-meeting-remote-meeting-online
DTSTART:20200415T230000Z
DTEND:20200416T000000Z
END:VEVENT
END:VCALENDAR
