BEGIN:VCALENDAR
VERSION:2.0
PRODID:SchoolNow
CALSCALE:GREGORIAN
BEGIN:VEVENT
UID:f85d7d66-6f6a-11ea-a18c-0ad06950228b
DTSTAMP:20200326T140621Z
SUMMARY:School Committee Executive Session - REMOTE MEETING ONLINE
DESCRIPTION:Executive Session: Contract Negotiations
URL;VALUE=URI:https://www.norwood.k12.ma.us/sc/calendar/2224927/school-comm
 ittee-executive-session-remote-meeting-online
DTSTART:20200401T230000Z
DTEND:20200402T000000Z
END:VEVENT
END:VCALENDAR
