BEGIN:VCALENDAR
VERSION:2.0
PRODID:SchoolNow
CALSCALE:GREGORIAN
BEGIN:VEVENT
UID:e6342dd6-702f-11ea-8185-0ac17425603d
DTSTAMP:20200327T133601Z
SUMMARY:School Committee Executive Session - REMOTE MEETING ONLINE
DESCRIPTION:Executive Session: Contract Negotiations
URL;VALUE=URI:https://www.norwood.k12.ma.us/sc/calendar/2225738/school-comm
 ittee-executive-session-remote-meeting-online-clone
DTSTART:20200330T213000Z
DTEND:20200330T223000Z
END:VEVENT
END:VCALENDAR
