BEGIN:VCALENDAR
VERSION:2.0
PRODID:SchoolNow
CALSCALE:GREGORIAN
BEGIN:VEVENT
UID:b3c05778-780c-11ea-ad18-0ae1d9d03c45
DTSTAMP:20200406T134413Z
SUMMARY:School Committee Executive Session - REMOTE MEETING ONLINE
URL;VALUE=URI:https://www.norwood.k12.ma.us/sc/calendar/2229579/school-comm
 ittee-executive-session-remote-meeting-online
DTSTART:20200408T223000Z
DTEND:20200408T230000Z
END:VEVENT
END:VCALENDAR
