BEGIN:VCALENDAR
VERSION:2.0
PRODID:SchoolNow
CALSCALE:GREGORIAN
BEGIN:VEVENT
UID:ab020472-8010-11ea-9726-0a5e100c5e05
DTSTAMP:20200416T183254Z
SUMMARY:School Committee Executive Session - REMOTE MEETING ONLINE
URL;VALUE=URI:https://www.norwood.k12.ma.us/sc/calendar/2238070/school-comm
 ittee-executive-session-remote-meeting
DTSTART:20200422T223000Z
DTEND:20200422T230000Z
END:VEVENT
END:VCALENDAR
